BEGIN:VCALENDAR
VERSION:2.0
PRODID:-//New LIfe - ECPv5.1.0//NONSGML v1.0//EN
CALSCALE:GREGORIAN
METHOD:PUBLISH
X-WR-CALNAME:New LIfe
X-ORIGINAL-URL:http://www.newlifeeuclid.com
X-WR-CALDESC:Events for New LIfe
BEGIN:VTIMEZONE
TZID:UTC
BEGIN:STANDARD
TZOFFSETFROM:+0000
TZOFFSETTO:+0000
TZNAME:UTC
DTSTART:20220101T000000
END:STANDARD
END:VTIMEZONE
BEGIN:VEVENT
DTSTART;TZID=UTC:20220116T123000
DTEND;TZID=UTC:20220116T133000
DTSTAMP:20260422T013759
CREATED:20191029T174942Z
LAST-MODIFIED:20191029T174942Z
UID:1827-1642336200-1642339800@www.newlifeeuclid.com
SUMMARY:CARE Team Meeting
DESCRIPTION:Time: 12:30pm-1:30pm \nPlace: Classroom 2 \n
URL:http://www.newlifeeuclid.com/event/care-team-meeting-2022-01-16/
END:VEVENT
END:VCALENDAR