BEGIN:VCALENDAR
VERSION:2.0
PRODID:-//New LIfe - ECPv5.1.0//NONSGML v1.0//EN
CALSCALE:GREGORIAN
METHOD:PUBLISH
X-WR-CALNAME:New LIfe
X-ORIGINAL-URL:http://www.newlifeeuclid.com
X-WR-CALDESC:Events for New LIfe
BEGIN:VTIMEZONE
TZID:UTC
BEGIN:STANDARD
TZOFFSETFROM:+0000
TZOFFSETTO:+0000
TZNAME:UTC
DTSTART:20200101T000000
END:STANDARD
END:VTIMEZONE
BEGIN:VEVENT
DTSTART;TZID=UTC:20200927T123000
DTEND;TZID=UTC:20200927T133000
DTSTAMP:20260422T070546
CREATED:20191029T164702Z
LAST-MODIFIED:20191029T174842Z
UID:1679-1601209800-1601213400@www.newlifeeuclid.com
SUMMARY:Education Department Meeting
DESCRIPTION:Time: 12:30pm-1:30pm \nPlace: Classroom 1 \n  \n
URL:http://www.newlifeeuclid.com/event/education-department-meeting-2020-09-27/
END:VEVENT
END:VCALENDAR