BEGIN:VCALENDAR
VERSION:2.0
PRODID:-//New LIfe - ECPv5.1.0//NONSGML v1.0//EN
CALSCALE:GREGORIAN
METHOD:PUBLISH
X-WR-CALNAME:New LIfe
X-ORIGINAL-URL:http://www.newlifeeuclid.com
X-WR-CALDESC:Events for New LIfe
BEGIN:VTIMEZONE
TZID:UTC
BEGIN:STANDARD
TZOFFSETFROM:+0000
TZOFFSETTO:+0000
TZNAME:UTC
DTSTART:20210101T000000
END:STANDARD
END:VTIMEZONE
BEGIN:VEVENT
DTSTART;TZID=UTC:20211228T193000
DTEND;TZID=UTC:20211228T200000
DTSTAMP:20260422T013723
CREATED:20191029T175145Z
LAST-MODIFIED:20191029T175145Z
UID:1811-1640719800-1640721600@www.newlifeeuclid.com
SUMMARY:Join us on the NLCC Prayer Line
DESCRIPTION:Everyone is welcome to call in and agree in prayer. \nTime: 7:30 pm – 8:00 pm \nCall:  (712) 775-7300 \nAt the Prompt put in the Group Number:  158395# \n
URL:http://www.newlifeeuclid.com/event/join-us-on-the-nlcc-prayer-line-2021-12-28/
END:VEVENT
END:VCALENDAR