BEGIN:VCALENDAR
VERSION:2.0
PRODID:-//New LIfe - ECPv5.1.0//NONSGML v1.0//EN
CALSCALE:GREGORIAN
METHOD:PUBLISH
X-WR-CALNAME:New LIfe
X-ORIGINAL-URL:http://www.newlifeeuclid.com
X-WR-CALDESC:Events for New LIfe
BEGIN:VTIMEZONE
TZID:America/New_York
BEGIN:DAYLIGHT
TZOFFSETFROM:-0500
TZOFFSETTO:-0400
TZNAME:EDT
DTSTART:20230312T070000
END:DAYLIGHT
BEGIN:STANDARD
TZOFFSETFROM:-0400
TZOFFSETTO:-0500
TZNAME:EST
DTSTART:20231105T060000
END:STANDARD
END:VTIMEZONE
BEGIN:VEVENT
DTSTART;TZID=America/New_York:20230228T193000
DTEND;TZID=America/New_York:20230228T200000
DTSTAMP:20260421T135708
CREATED:20230110T024832Z
LAST-MODIFIED:20230110T024832Z
UID:2045-1677612600-1677614400@www.newlifeeuclid.com
SUMMARY:Join us on the NLCC Prayer Line
DESCRIPTION:Everyone is welcome to call in and agree in prayer. \nPlease mute your phone if you are in a noisy environment and unmute to pray. \nTime: 7:30 pm – 8:00 pm EST \nCall:  (712) 908-1741 \nAt the Prompt put in the Group Number:  158395# \n
URL:http://www.newlifeeuclid.com/event/join-us-on-the-nlcc-prayer-line-8/
END:VEVENT
END:VCALENDAR