BEGIN:VCALENDAR
VERSION:2.0
PRODID:-//New LIfe - ECPv5.1.0//NONSGML v1.0//EN
CALSCALE:GREGORIAN
METHOD:PUBLISH
X-WR-CALNAME:New LIfe
X-ORIGINAL-URL:http://www.newlifeeuclid.com
X-WR-CALDESC:Events for New LIfe
BEGIN:VTIMEZONE
TZID:UTC
BEGIN:STANDARD
TZOFFSETFROM:+0000
TZOFFSETTO:+0000
TZNAME:UTC
DTSTART:20210101T000000
END:STANDARD
END:VTIMEZONE
BEGIN:VEVENT
DTSTART;TZID=UTC:20211211T120000
DTEND;TZID=UTC:20211211T140000
DTSTAMP:20260422T050647
CREATED:20191029T175943Z
LAST-MODIFIED:20191029T175943Z
UID:1798-1639224000-1639231200@www.newlifeeuclid.com
SUMMARY:Lady’s Luncheon
DESCRIPTION:All Women are encouraged to attend.  Wonderful fellowship\, teaching\, and food. \nTime: 12 noon – 2:00 pm \n
URL:http://www.newlifeeuclid.com/event/ladys-luncheon-2021-12-11/
END:VEVENT
END:VCALENDAR