BEGIN:VCALENDAR
VERSION:2.0
PRODID:-//New LIfe - ECPv5.1.0//NONSGML v1.0//EN
CALSCALE:GREGORIAN
METHOD:PUBLISH
X-WR-CALNAME:New LIfe
X-ORIGINAL-URL:http://www.newlifeeuclid.com
X-WR-CALDESC:Events for New LIfe
BEGIN:VTIMEZONE
TZID:UTC
BEGIN:STANDARD
TZOFFSETFROM:+0000
TZOFFSETTO:+0000
TZNAME:UTC
DTSTART:20190101T000000
END:STANDARD
END:VTIMEZONE
BEGIN:VEVENT
DTSTART;TZID=UTC:20191201T123000
DTEND;TZID=UTC:20191201T133000
DTSTAMP:20260422T121012
CREATED:20191029T155438Z
LAST-MODIFIED:20191029T155438Z
UID:1662-1575203400-1575207000@www.newlifeeuclid.com
SUMMARY:Life Group Leaders Meeting
DESCRIPTION:12:30pm – 1:30pm \nClassroom 1 \n  \n
URL:http://www.newlifeeuclid.com/event/life-group-leaders-meeting-2019-12-01/
END:VEVENT
END:VCALENDAR