BEGIN:VCALENDAR
VERSION:2.0
PRODID:-//New LIfe - ECPv5.1.0//NONSGML v1.0//EN
CALSCALE:GREGORIAN
METHOD:PUBLISH
X-WR-CALNAME:New LIfe
X-ORIGINAL-URL:http://www.newlifeeuclid.com
X-WR-CALDESC:Events for New LIfe
BEGIN:VTIMEZONE
TZID:UTC
BEGIN:STANDARD
TZOFFSETFROM:+0000
TZOFFSETTO:+0000
TZNAME:UTC
DTSTART:20220101T000000
END:STANDARD
END:VTIMEZONE
BEGIN:VEVENT
DTSTART;TZID=UTC:20220105T190000
DTEND;TZID=UTC:20220105T200000
DTSTAMP:20260422T013157
CREATED:20191029T175704Z
LAST-MODIFIED:20191029T175704Z
UID:1818-1641409200-1641412800@www.newlifeeuclid.com
SUMMARY:Life Groups
DESCRIPTION:Please Call Church Office or Email to find the Life Group near you. \nClick here for contact info \n  \n
URL:http://www.newlifeeuclid.com/event/life-groups-2022-01-05/
END:VEVENT
END:VCALENDAR