BEGIN:VCALENDAR
VERSION:2.0
PRODID:-//New LIfe - ECPv5.1.0//NONSGML v1.0//EN
CALSCALE:GREGORIAN
METHOD:PUBLISH
X-WR-CALNAME:New LIfe
X-ORIGINAL-URL:http://www.newlifeeuclid.com
X-WR-CALDESC:Events for New LIfe
BEGIN:VTIMEZONE
TZID:UTC
BEGIN:STANDARD
TZOFFSETFROM:+0000
TZOFFSETTO:+0000
TZNAME:UTC
DTSTART:20230101T000000
END:STANDARD
END:VTIMEZONE
BEGIN:VEVENT
DTSTART;TZID=UTC:20230201T180000
DTEND;TZID=UTC:20230201T200000
DTSTAMP:20260421T155442
CREATED:20230110T022636Z
LAST-MODIFIED:20230110T022645Z
UID:2012-1675274400-1675281600@www.newlifeeuclid.com
SUMMARY:Life Groups
DESCRIPTION:Please Call Church Office or Email to find the Life Group near you. \nClick here for contact info \n  \n
URL:http://www.newlifeeuclid.com/event/life-groups-7/
END:VEVENT
END:VCALENDAR