BEGIN:VCALENDAR
VERSION:2.0
PRODID:-//New LIfe - ECPv5.1.0//NONSGML v1.0//EN
CALSCALE:GREGORIAN
METHOD:PUBLISH
X-WR-CALNAME:New LIfe
X-ORIGINAL-URL:http://www.newlifeeuclid.com
X-WR-CALDESC:Events for New LIfe
BEGIN:VTIMEZONE
TZID:UTC
BEGIN:STANDARD
TZOFFSETFROM:+0000
TZOFFSETTO:+0000
TZNAME:UTC
DTSTART:20220101T000000
END:STANDARD
END:VTIMEZONE
BEGIN:VEVENT
DTSTART;TZID=UTC:20220130T093000
DTEND;TZID=UTC:20220130T120000
DTSTAMP:20260421T234620
CREATED:20191029T153800Z
LAST-MODIFIED:20191029T153800Z
UID:1836-1643535000-1643544000@www.newlifeeuclid.com
SUMMARY:Sunday Services
DESCRIPTION:9:30 am – 10:15 am   Open Prayer for everyone. Praying together corporately. \n9:30 am – 10:15 am.  Children’s Sunday School. \n10:30 am – 12:00 noon.   Worship Service \n10:30 am – 12:00 noon.   Children’s Church \n
URL:http://www.newlifeeuclid.com/event/sunday-services-2022-01-30/
END:VEVENT
END:VCALENDAR